BEGIN:VCALENDAR
VERSION:2.0
PRODID:-//St Peter&#039;s Marlborough - ECPv6.15.20//NONSGML v1.0//EN
CALSCALE:GREGORIAN
METHOD:PUBLISH
X-ORIGINAL-URL:https://stpetersmarlborough.org.uk
X-WR-CALDESC:Events for St Peter&#039;s Marlborough
REFRESH-INTERVAL;VALUE=DURATION:PT1H
X-Robots-Tag:noindex
X-PUBLISHED-TTL:PT1H
BEGIN:VTIMEZONE
TZID:Europe/London
BEGIN:DAYLIGHT
TZOFFSETFROM:+0000
TZOFFSETTO:+0100
TZNAME:BST
DTSTART:20240331T010000
END:DAYLIGHT
BEGIN:STANDARD
TZOFFSETFROM:+0100
TZOFFSETTO:+0000
TZNAME:GMT
DTSTART:20241027T010000
END:STANDARD
BEGIN:DAYLIGHT
TZOFFSETFROM:+0000
TZOFFSETTO:+0100
TZNAME:BST
DTSTART:20250330T010000
END:DAYLIGHT
BEGIN:STANDARD
TZOFFSETFROM:+0100
TZOFFSETTO:+0000
TZNAME:GMT
DTSTART:20251026T010000
END:STANDARD
BEGIN:DAYLIGHT
TZOFFSETFROM:+0000
TZOFFSETTO:+0100
TZNAME:BST
DTSTART:20260329T010000
END:DAYLIGHT
BEGIN:STANDARD
TZOFFSETFROM:+0100
TZOFFSETTO:+0000
TZNAME:GMT
DTSTART:20261025T010000
END:STANDARD
END:VTIMEZONE
BEGIN:VEVENT
DTSTART;TZID=Europe/London:20250704T110000
DTEND;TZID=Europe/London:20250704T123000
DTSTAMP:20260421T182524
CREATED:20250620T112454Z
LAST-MODIFIED:20250620T112454Z
UID:6820-1751626800-1751632200@stpetersmarlborough.org.uk
SUMMARY:Parkinsons's UK Cafe
DESCRIPTION:Join us on the first Friday of the month for Parkinson’s UK coffee morning at Cardinal Coffee Shop in St Peter’s. \nCome along to chat with others between 11am and 12:30pm to share experiences and find out what is on offer for the local Parkinson’s community. \nNo booking required
URL:https://stpetersmarlborough.org.uk/event/parkinsonss-uk-cafe
LOCATION:St Peter’s Marlborough\, High Street\, Marlborough\, Wiltshire\, SN8 1HQ\, United Kingdom
CATEGORIES:Community
ATTACH;FMTTYPE=image/png:https://stpetersmarlborough.org.uk/wp-content/uploads/2024/02/parkilogo.png
END:VEVENT
BEGIN:VEVENT
DTSTART;TZID=Europe/London:20250706T110000
DTEND;TZID=Europe/London:20250706T133000
DTSTAMP:20260421T182524
CREATED:20250610T111105Z
LAST-MODIFIED:20250702T133832Z
UID:6760-1751799600-1751808600@stpetersmarlborough.org.uk
SUMMARY:Volunteers Day
DESCRIPTION:We need to ask for some help for our St Peter’s Volunteer Day on 6th July\, 2025! \nSt Peter’s has stood in Marlborough for over 500 years\, a cherished landmark filled with history but without your help\, we can’t preserve it’s beauty for future generations! We’re inviting volunteers to lend a hand with our ground’s maintenance – a chance to give back\, enjoy the fresh air\, and be part of something truly meaningful. \nPlease bring your gloves\, hand held gardening tools and maybe even a kneeling pad! Tell your friends and family\, every one of all ages are welcome! \nDate: Sunday\, June 22\, 2025\nLocation: St Peter’s Church\, Marlborough\nTime: 11am \nAs a thank you from us\, refreshments will be available through out the day.
URL:https://stpetersmarlborough.org.uk/event/volunteers-day
LOCATION:St Peter’s Marlborough\, High Street\, Marlborough\, Wiltshire\, SN8 1HQ\, United Kingdom
CATEGORIES:Sound Knowledge
ATTACH;FMTTYPE=image/jpeg:https://stpetersmarlborough.org.uk/wp-content/uploads/2025/06/vollieday.jpg
ORGANIZER;CN="St Peter's Marlborough":MAILTO:events@stpetersmarlborough.org.uk
END:VEVENT
BEGIN:VEVENT
DTSTART;TZID=Europe/London:20250707T100000
DTEND;TZID=Europe/London:20250707T150000
DTSTAMP:20260421T182524
CREATED:20250620T135301Z
LAST-MODIFIED:20250620T135301Z
UID:6823-1751882400-1751900400@stpetersmarlborough.org.uk
SUMMARY:Indoor Market @ St Peter's
DESCRIPTION:The indoor Monday Market @ St Peter’s runs every 1st Monday of the month\, 10am to 3pm.\nOur aim is to showcase the best of local businesses bringing together their products and produce all under one roof. \n\nLocal businesses\, products and produce\,\nGreat tea\, coffee\, cakes and lunches at the Cardinal Coffee Shop\,\nAll set within Marlborough’s beautiful 550 year old landmark building.\n\nWe want our markets to be for the benefit of the whole community\, let’s get together and support local.
URL:https://stpetersmarlborough.org.uk/event/indoor-market-st-peters
LOCATION:St Peter’s Marlborough\, High Street\, Marlborough\, Wiltshire\, SN8 1HQ\, United Kingdom
CATEGORIES:Market
ATTACH;FMTTYPE=image/png:https://stpetersmarlborough.org.uk/wp-content/uploads/2025/01/14.png
ORGANIZER;CN="St Peter's Marlborough":MAILTO:events@stpetersmarlborough.org.uk
END:VEVENT
BEGIN:VEVENT
DTSTART;TZID=Europe/London:20250710T130000
DTEND;TZID=Europe/London:20250713T160000
DTSTAMP:20260421T182524
CREATED:20250708T214927Z
LAST-MODIFIED:20250708T215116Z
UID:6848-1752152400-1752422400@stpetersmarlborough.org.uk
SUMMARY:The Guild of Wiltshire Artists Summer Exhibition of Fine Art
DESCRIPTION:The Guild of Wiltshire Artists is holding the first of it’s two 2025 exhibitions at St Peter’s Marlborough from Thursday 10th July through Sunday 13th July. Hours of opening are 1pm to 4pm Thursday 10th\, then 10am to pm Friday 11th through to Sunday 13th. Admission is FREE and you are welcome to browse\, and even purchase\, as you so wish. \nWhilst admiring the artwork please enjoy coffee and cake at the Cardinal Coffee Shop. \nThe Guild of Wiltshire Artists\, St Peter’s and the Cardinal Coffee Shop look forward to seeing you.
URL:https://stpetersmarlborough.org.uk/event/the-guild-of-wiltshire-artists-summer-exhibition-of-fine-art
LOCATION:St Peter’s Marlborough\, High Street\, Marlborough\, Wiltshire\, SN8 1HQ\, United Kingdom
CATEGORIES:Art Exhibition
ATTACH;FMTTYPE=image/jpeg:https://stpetersmarlborough.org.uk/wp-content/uploads/2025/07/A5_Poster_GWA_Jul_2025_small_for_web.jpg
END:VEVENT
BEGIN:VEVENT
DTSTART;TZID=Europe/London:20250715T110000
DTEND;TZID=Europe/London:20250715T110000
DTSTAMP:20260421T182524
CREATED:20250328T161419Z
LAST-MODIFIED:20250329T075427Z
UID:6358-1752577200-1752577200@stpetersmarlborough.org.uk
SUMMARY:Chocolate making demonstration by Amy Levin
DESCRIPTION:Join us at St Peter’s for a demonstration by the incredible Chocolatier Amy Levin. \nAre you or someone you know passionate about chocolate? Come and learn all about chocolate from a professional chocolatier. Learn all about where chocolate comes from\, how it’s processed commercially and then see how it’s made in small batches by artisan chocolatiers the world over using a stone grinder. \nThis event is free to attend if you RSVP\, please RSVP below to confirm your place.
URL:https://stpetersmarlborough.org.uk/event/chocolate-making-demonstration-by-amy-levin
LOCATION:St Peter’s Marlborough\, High Street\, Marlborough\, Wiltshire\, SN8 1HQ\, United Kingdom
CATEGORIES:Talk,Workshop
ATTACH;FMTTYPE=image/png:https://stpetersmarlborough.org.uk/wp-content/uploads/2025/03/Screenshot-2025-03-28-at-16.10.59.png
ORGANIZER;CN="St Peter's Marlborough":MAILTO:events@stpetersmarlborough.org.uk
END:VEVENT
BEGIN:VEVENT
DTSTART;TZID=Europe/London:20250716T190000
DTEND;TZID=Europe/London:20250716T213000
DTSTAMP:20260421T182524
CREATED:20250619T171457Z
LAST-MODIFIED:20250620T111326Z
UID:6804-1752692400-1752701400@stpetersmarlborough.org.uk
SUMMARY:Sound Knowledge - Billie Marten - Live Album Launch
DESCRIPTION:We’re over the moon to announce that the brilliant Billie Marten will be returning to us for a fifth time on Wednesday 16th July to celebrate the release of her forthcoming new album ‘Dog Eared’. She’ll be playing a solo set in the atmospheric surroundings of St. Peter’s Church from 7.30pm. Her first appearance here as a teenager nearly a decade ago heralded the arrival of a major songwriting talent and each subsequent record has seen Billie refining her craft and growing in musical boldness. \nHer new album ‘Dog Eared’ was recorded in New York with producer Phil Weinrobe (Adrianne Lenker\, Buck Meek\, Laura Veirs) and a globe-spanning band of crack musicians including Catalan singer-songwriter/guitarist Núuria Graham\, revered indie-rock artist Sam Evian\, Brazilian percussionist Mauro Refosco\, acclaimed folk musician Sam Amidon and his frequent collaborator\, multi-instrumentalist Shahzad Ismaily. If you’d like to attend this intimate performance in a beautiful setting\, album and ticket bundles are available for purchase\, featuring a copy of the new album (released Friday 18th July on CD\, LP and a “Deep Ocean” coloured vinyl exclusive to independent shops) and a ticket to the event.\nStandalone tickets are also available but we’d ask you to consider buying a bundle where possible- it’s better value for you and the album sales help both the artist and also us with organising these events. \nTickets and bundles are available exclusively from Sound Knowledge in-store\, over the phone on 01672 511106 or via this page. \n  \n**Under 16s must be accompanied by a ticket-holding adult. We can’t admit under-8s for this one. This is a standing event but please notify Sound Knowledge by email if you have any access requirements. \nPLEASE NOTE – Albums will be posted out to arrive on/around the release date (in this case\, the week after the event). All tickets are PICKUP ONLY\, available to collect in advance from the shop or on the door of the venue. Please have your order number/confirmation email to hand when collecting.
URL:https://stpetersmarlborough.org.uk/event/sound-knowledge-billie-marten-live-album-launch
LOCATION:St Peter’s Marlborough\, High Street\, Marlborough\, Wiltshire\, SN8 1HQ\, United Kingdom
CATEGORIES:Sound Knowledge
ATTACH;FMTTYPE=image/png:https://stpetersmarlborough.org.uk/wp-content/uploads/2025/06/Unknown-1.png
END:VEVENT
BEGIN:VEVENT
DTSTART;TZID=Europe/London:20250717T190000
DTEND;TZID=Europe/London:20250717T213000
DTSTAMP:20260421T182524
CREATED:20250619T165807Z
LAST-MODIFIED:20250619T210241Z
UID:6782-1752778800-1752787800@stpetersmarlborough.org.uk
SUMMARY:Sound Knowledge - Ann Liu Cannon - Live Album Launch
DESCRIPTION:We’re thrilled to announce that our very own Ann Liu Cannon will be joining us in St. Peter’s on Thursday 17th July\, playing live from 7.30pm to celebrate the release of her debut album ‘Clever Rabbits’. \nNow based in London\, Ann has gigged extensively in the capital and sold out headline shows at Green Note and St. Pancras Old Church\, and toured the UK and internationally with Lewis Ofman and Beans On Toast. \nInspired by the Chinese idiom “Clever rabbits need three burrows”\, and the imagery of three rabbits found in Devon’s churches and China’s caves\, Ann’s debut full-length was recorded with award-winning producer Ethan Johns (Laura Marling\, Paul McCartney\, Kings of Leon) and follows her ‘Chalk’ EP\, launched at the shop last summer. \nEntry is FREE but please do contact Sound Knowledge so they can expect you\, or pre-order a copy of ‘Clever Rabbits’ from them to guarantee your place
URL:https://stpetersmarlborough.org.uk/event/live-ann-liu-cannon
LOCATION:St Peter’s Marlborough\, High Street\, Marlborough\, Wiltshire\, SN8 1HQ\, United Kingdom
CATEGORIES:Sound Knowledge
ATTACH;FMTTYPE=image/png:https://stpetersmarlborough.org.uk/wp-content/uploads/2025/06/Ann-Liu-Cannon-2025-SK-Asset-II.png
END:VEVENT
BEGIN:VEVENT
DTSTART;TZID=Europe/London:20250721T100000
DTEND;TZID=Europe/London:20250726T160000
DTSTAMP:20260421T182524
CREATED:20250718T105142Z
LAST-MODIFIED:20250718T110034Z
UID:6860-1753092000-1753545600@stpetersmarlborough.org.uk
SUMMARY:Georgie Laing - Art and Photography Exhibition
DESCRIPTION:🎨 Celebrate One of Marlborough’s Youngest Talents! 🎨 \nWe’re thrilled to announce that Georgie\, one of Marlborough’s youngest artists\, will be exhibiting her artwork at St Peter’s from Monday\, 21st July\, 10am–4pm. \nPop in to explore her vibrant collection — and why not enjoy a coffee and cake at Cardinal Coffee Shop while you’re there? \n🥂 Join us for the Exhibition Launch!On Monday\, 21st July from 2pm\, we’ll be hosting a special launch event with drinks and nibbles to celebrate Georgie’s work. \nCome along\, show your support for Georgie\, and be part of a fantastic local event at the heart of the community. \nEveryone is welcome — we’d love to see you there!
URL:https://stpetersmarlborough.org.uk/event/georgie-laing-art-and-photography-exhibition
LOCATION:St Peter’s Marlborough\, High Street\, Marlborough\, Wiltshire\, SN8 1HQ\, United Kingdom
CATEGORIES:St Peter's
ATTACH;FMTTYPE=image/jpeg:https://stpetersmarlborough.org.uk/wp-content/uploads/2025/07/Georgie-Laing-Art-and-Photography.jpg
ORGANIZER;CN="St Peter's Marlborough":MAILTO:events@stpetersmarlborough.org.uk
END:VEVENT
END:VCALENDAR