BEGIN:VCALENDAR
VERSION:2.0
PRODID:-//St Peter&#039;s Marlborough - ECPv6.15.20//NONSGML v1.0//EN
CALSCALE:GREGORIAN
METHOD:PUBLISH
X-ORIGINAL-URL:https://stpetersmarlborough.org.uk
X-WR-CALDESC:Events for St Peter&#039;s Marlborough
REFRESH-INTERVAL;VALUE=DURATION:PT1H
X-Robots-Tag:noindex
X-PUBLISHED-TTL:PT1H
BEGIN:VTIMEZONE
TZID:Europe/London
BEGIN:DAYLIGHT
TZOFFSETFROM:+0000
TZOFFSETTO:+0100
TZNAME:BST
DTSTART:20240331T010000
END:DAYLIGHT
BEGIN:STANDARD
TZOFFSETFROM:+0100
TZOFFSETTO:+0000
TZNAME:GMT
DTSTART:20241027T010000
END:STANDARD
BEGIN:DAYLIGHT
TZOFFSETFROM:+0000
TZOFFSETTO:+0100
TZNAME:BST
DTSTART:20250330T010000
END:DAYLIGHT
BEGIN:STANDARD
TZOFFSETFROM:+0100
TZOFFSETTO:+0000
TZNAME:GMT
DTSTART:20251026T010000
END:STANDARD
BEGIN:DAYLIGHT
TZOFFSETFROM:+0000
TZOFFSETTO:+0100
TZNAME:BST
DTSTART:20260329T010000
END:DAYLIGHT
BEGIN:STANDARD
TZOFFSETFROM:+0100
TZOFFSETTO:+0000
TZNAME:GMT
DTSTART:20261025T010000
END:STANDARD
END:VTIMEZONE
BEGIN:VEVENT
DTSTART;TZID=Europe/London:20250303T100000
DTEND;TZID=Europe/London:20250303T150000
DTSTAMP:20260423T141702
CREATED:20250114T220931Z
LAST-MODIFIED:20250114T222036Z
UID:5321-1740996000-1741014000@stpetersmarlborough.org.uk
SUMMARY:Marlborough's Indoor Monday Market @ St Peter's - Mar 3
DESCRIPTION:Our seventeenth Monday Market will be open at 10am on Monday 3rd March and we would love to see you all turn out and support local products and produce. This week we will have meat reared by Grove Farm Stitchcombe in the Kennet Valley along with the incredible coffee and cakes from the Cardinal Coffee Shop. \nThe indoor market at St Peter’s runs every Monday\, 10am to 3pm. Our aim is to showcase the best of local businesses bringing together their products and produce all under one roof. \n\nNew stalls added each week\,\nLocal businesses\, products and produce\,\nGreat tea\, coffee\, cakes and lunches at the Cardinal Coffee Shop\,\nAll set within Marlborough’s beautiful 550 year old landmark building.\n\nWe want our markets to be for the benefit of the whole community\, let’s get together and support local.
URL:https://stpetersmarlborough.org.uk/event/marlboroughs-indoor-monday-market-st-peters-mar-3
LOCATION:St Peter’s Marlborough\, High Street\, Marlborough\, Wiltshire\, SN8 1HQ\, United Kingdom
CATEGORIES:Indoor Market,Market,St Peter's
ATTACH;FMTTYPE=image/png:https://stpetersmarlborough.org.uk/wp-content/uploads/2025/01/8.png
ORGANIZER;CN="St Peter's Marlborough":MAILTO:events@stpetersmarlborough.org.uk
END:VEVENT
BEGIN:VEVENT
DTSTART;TZID=Europe/London:20250303T193000
DTEND;TZID=Europe/London:20250303T193000
DTSTAMP:20260423T141702
CREATED:20250221T090823Z
LAST-MODIFIED:20250222T163218Z
UID:5847-1741030200-1741030200@stpetersmarlborough.org.uk
SUMMARY:Sound Knowledge Presents - Bradley Simpson
DESCRIPTION:Bradley Simpson at St. Peter’s – ‘The Panic Years’ Outstore\nSound Knowledge are delighted to announce that Bradley Simpson\, frontman of The Vamps\, will be joining us in St. Peter’s on Monday 3rd March for a promotional performance and album signing to celebrate the release of his debut solo record ‘The Panic Years’. \nRecorded in New York’s Flux Studios (where The Strokes’ classic ‘Is This It’ was made) with executive producer BOOTS (Beyoncé\, Run The Jewels)\, ‘The Panic Years’ takes in touches of indie-rock\, Americana and 80s synth but retains a knack for pop addictiveness finely honed over more than a decade as the vocalist in Platinum-sellers The Vamps. \nIf you’d like to attend this intimate performance in a beautiful setting\, album and ticket bundles are available for purchase\, featuring a copy of the new album (released Friday 28th February) and a ticket to the event. Standalone tickets are also available but we’d ask you to consider buying a bundle where possible- it’s better value for you and the album sales help both the artist and also us with organising these events. \nTickets and bundles are available exclusively from Sound Knowledge via this page\, on sale from 11am on Friday 24th January. \nUnder 16s must be accompanied by a ticket holding adult. This is a standing event but please notify us by email if you have any access requirements. \nAlbums and tickets will be available to collect from the shop from the release date of the album\, or posted to arrive on/around that date if you pay for postage. \nTickets: https://www.sound-knowledge.co.uk/collections/events/products/bradley-simpson-outstore \n 
URL:https://stpetersmarlborough.org.uk/event/sound-knowledge-presents-bradley-simpson
LOCATION:St Peter’s Marlborough\, High Street\, Marlborough\, Wiltshire\, SN8 1HQ\, United Kingdom
CATEGORIES:Concert,Sound Knowledge
ATTACH;FMTTYPE=image/png:https://stpetersmarlborough.org.uk/wp-content/uploads/2025/02/Screenshot-2025-02-17-at-14.28.29.png
END:VEVENT
BEGIN:VEVENT
DTSTART;TZID=Europe/London:20250308T200000
DTEND;TZID=Europe/London:20250308T220000
DTSTAMP:20260423T141702
CREATED:20241003T115837Z
LAST-MODIFIED:20250303T104126Z
UID:4283-1741464000-1741471200@stpetersmarlborough.org.uk
SUMMARY:Chuckle at the Church 3 – Comedy Night
DESCRIPTION:Chuckle at the Church returns for 2025!\nWe are pleased to share we have the biblically talented Jay Handley headlining our first stand up comedy night of the year. \nSam Michael will return to MC the St Peter’s stage and is joined by top UK comedic talent in Jacob Hatton Walter Jack\, Matt Pugsley and Micheal Kohlweg. \n  \nEarly bird tickets still available*\n£15 (Normally £20) \n*Until February 19th 2025 \nDoors open: 7:15pm\, Comedy starts 8:00pm. \nWarning: Adult content
URL:https://stpetersmarlborough.org.uk/event/chuckle-at-the-church-3-comedy-night
LOCATION:St Peter’s Marlborough\, High Street\, Marlborough\, Wiltshire\, SN8 1HQ\, United Kingdom
CATEGORIES:Comedy
ATTACH;FMTTYPE=image/png:https://stpetersmarlborough.org.uk/wp-content/uploads/2024/10/Chuckle-in-the-church-sq.png
END:VEVENT
BEGIN:VEVENT
DTSTART;TZID=Europe/London:20250310T100000
DTEND;TZID=Europe/London:20250310T150000
DTSTAMP:20260423T141702
CREATED:20250114T222504Z
LAST-MODIFIED:20250114T222605Z
UID:5332-1741600800-1741618800@stpetersmarlborough.org.uk
SUMMARY:Marlborough's Indoor Monday Market @ St Peter's - Mar 10
DESCRIPTION:Our eighteenth Monday Market will be open at 10am on Monday 10th March and we would love to see you all turn out and support local products and produce. This week we will have meat reared by Grove Farm Stitchcombe in the Kennet Valley\, organic products from Friends With Nature and Treebitz Wooden Kitchenware. \nThe indoor market at St Peter’s runs every Monday\, 10am to 3pm. Our aim is to showcase the best of local businesses bringing together their products and produce all under one roof. \n\nNew stalls added each week\,\nLocal businesses\, products and produce\,\nGreat tea\, coffee\, cakes and lunches at the Cardinal Coffee Shop\,\nAll set within Marlborough’s beautiful 550 year old landmark building.\n\nWe want our markets to be for the benefit of the whole community\, let’s get together and support local.
URL:https://stpetersmarlborough.org.uk/event/marlboroughs-indoor-monday-market-st-peters-mar-10
LOCATION:St Peter’s Marlborough\, High Street\, Marlborough\, Wiltshire\, SN8 1HQ\, United Kingdom
CATEGORIES:Indoor Market,Market,St Peter's
ATTACH;FMTTYPE=image/png:https://stpetersmarlborough.org.uk/wp-content/uploads/2025/01/9.png
ORGANIZER;CN="St Peter's Marlborough":MAILTO:events@stpetersmarlborough.org.uk
END:VEVENT
BEGIN:VEVENT
DTSTART;TZID=Europe/London:20250316T190000
DTEND;TZID=Europe/London:20250316T210000
DTSTAMP:20260423T141702
CREATED:20240822T115308Z
LAST-MODIFIED:20250210T203352Z
UID:3822-1742151600-1742158800@stpetersmarlborough.org.uk
SUMMARY:Brilliant International Musicians Series: Altea Narici (solo cello)
DESCRIPTION:Altea is a traveling cellist and singer-songwriter. After completing the Master Diploma at the Accademia Nazionale di Santa Cecilia\, she became an Ambassador Artist for the International Yehudi Menuhin Foundation and travels between Europe and North America\, carrying out participatory projects about art and environmental conservation. \nShe was an artist in residence at the Celacanto Center\, Ruers (IT)\, the Sitka Center for Art and Ecology (Oregon\, USA)\, and the Friends of Italy Hawaii on Oahu\, performing as a solo artist at schools\, natural parks\, museums and cultural centers and facilitating workshops on communication and creativity. In London she specializes in group music teaching with Music Masters\, and in workshop leading with Spitalfields Music. In 2024 she joined the orchestra of Matilda Il Musical at Teatro Sistina in Rome\, and performed at the Sala Borgna of Auditorium Ennio Morricone with singer/songwriter Agadez. She is currently project manager and performer for the DestabilizzArti Project with Musica a Traverso. \n  \nThis event has been selected for St Peter’s Trust membership discount. Please use your membership number\, found on your membership card to apply your discount at either the Basket or Checkout stage when ordering.  \nFor information about how you can support St Peter’s Trust by becoming a member click here.
URL:https://stpetersmarlborough.org.uk/event/brilliant-international-musicians-series-altea-narici-solo-cello
LOCATION:St Peter’s Marlborough\, High Street\, Marlborough\, Wiltshire\, SN8 1HQ\, United Kingdom
CATEGORIES:Brilliant International Musicians
ATTACH;FMTTYPE=image/jpeg:https://stpetersmarlborough.org.uk/wp-content/uploads/2023/12/St-Peters-Trust-presents-the-13th-season-of-Instagram-Post.jpg
ORGANIZER;CN="St Peter's Marlborough":MAILTO:events@stpetersmarlborough.org.uk
END:VEVENT
BEGIN:VEVENT
DTSTART;TZID=Europe/London:20250317T100000
DTEND;TZID=Europe/London:20250317T150000
DTSTAMP:20260423T141702
CREATED:20250114T221648Z
LAST-MODIFIED:20250114T221942Z
UID:5324-1742205600-1742223600@stpetersmarlborough.org.uk
SUMMARY:Marlborough's Indoor Monday Market @ St Peter's - Mar 17
DESCRIPTION:Our nineteenth Monday Market will be open at 10am on Monday 17th March and we would love to see you all turn out and support local products and produce. This week we will have meat reared by Grove Farm Stitchcombe in the Kennet Valley along with the incredible coffee and cakes from the Cardinal Coffee Shop. \nThe indoor market at St Peter’s runs every Monday\, 10am to 3pm. Our aim is to showcase the best of local businesses bringing together their products and produce all under one roof. \n\nNew stalls added each week\,\nLocal businesses\, products and produce\,\nGreat tea\, coffee\, cakes and lunches at the Cardinal Coffee Shop\,\nAll set within Marlborough’s beautiful 550 year old landmark building.\n\nWe want our markets to be for the benefit of the whole community\, let’s get together and support local.
URL:https://stpetersmarlborough.org.uk/event/marlboroughs-indoor-monday-market-st-peters-mar-17
LOCATION:St Peter’s Marlborough\, High Street\, Marlborough\, Wiltshire\, SN8 1HQ\, United Kingdom
CATEGORIES:Indoor Market,Market,St Peter's
ATTACH;FMTTYPE=image/png:https://stpetersmarlborough.org.uk/wp-content/uploads/2025/01/14.png
ORGANIZER;CN="St Peter's Marlborough":MAILTO:events@stpetersmarlborough.org.uk
END:VEVENT
BEGIN:VEVENT
DTSTART;TZID=Europe/London:20250322T100000
DTEND;TZID=Europe/London:20250322T150000
DTSTAMP:20260423T141702
CREATED:20240925T122810Z
LAST-MODIFIED:20250114T145625Z
UID:4204-1742637600-1742655600@stpetersmarlborough.org.uk
SUMMARY:St Peter's Spring Fair 2025
DESCRIPTION:Please join us and many local businesses for our Spring Craft Fair on the Saturday 22nd March!\nSpring Craft Fair Marlborough. Lots of Mother’s Day ideas.\nWe have many vendors returning from our previous Fairs and some exciting new ones! They will be selling a range of products\, from candles and infusers to cakes and treats\, beauty products\, handmade textiles\, glass crafts and crystals\, all perfect gifts for Mother’s Day. \nWe also have the Cardinal Coffee Shop open offering delightful refreshments and lunches. \nFree entry.
URL:https://stpetersmarlborough.org.uk/event/st-peters-spring-fair
LOCATION:St Peter’s Marlborough\, High Street\, Marlborough\, Wiltshire\, SN8 1HQ\, United Kingdom
ATTACH;FMTTYPE=image/png:https://stpetersmarlborough.org.uk/wp-content/uploads/2023/12/SpringFair.png
ORGANIZER;CN="St Peter's Marlborough":MAILTO:events@stpetersmarlborough.org.uk
END:VEVENT
BEGIN:VEVENT
DTSTART;TZID=Europe/London:20250322T190000
DTEND;TZID=Europe/London:20250322T190000
DTSTAMP:20260423T141702
CREATED:20250312T184014Z
LAST-MODIFIED:20250312T184122Z
UID:6148-1742670000-1742670000@stpetersmarlborough.org.uk
SUMMARY:Sound Knowledge Presents: Gustaffson
DESCRIPTION:We’re delighted to announce that Gustaffson\, the Liverpool band fronted by actor/singer-songwriter Andrew Gower (Outlander\, Black Mirror)\, will be joining us in St. Peter’s  on Saturday 22nd March\, playing live from 7pm to celebrate the release of their debut album ‘Black & White Movie’. \n‘Black & White Movie’ is a remarkably assured debut\, produced by Elbow’s Craig Potter. The record features sweeping string arrangements from award-winning composer Bear McCreary (Outlander\, Rings of Power) and a cameo from legendary actor Sir Ben Kingsley. \nThe 13 tracks on the album serve as individual cinematic experiences. Lead singer and songwriter Gower’s poignant lyrics\, honed over 15 years as an actor\, shine light and darkness on the duality of human existence\, telling extraordinary tales of ordinary lives. It’s released on CD and split black/white vinyl on Friday 21st March. \nEntry is FREE but capacity is limited\, so please let Sound Knowledge know if you’d like to attend or pre-order a copy of the album from Sound Knowledge to guarantee your place. \nPackages: https://www.sound-knowledge.co.uk/collections/events/products/gustaffson-black-white-movie-album-launch
URL:https://stpetersmarlborough.org.uk/event/sound-knowledge-presents-gustaffson
LOCATION:St Peter’s Marlborough\, High Street\, Marlborough\, Wiltshire\, SN8 1HQ\, United Kingdom
CATEGORIES:Live music,Sound Knowledge
ATTACH;FMTTYPE=image/webp:https://stpetersmarlborough.org.uk/wp-content/uploads/2025/03/GustaffsonSKAsset_470x509_crop_top.png.webp
END:VEVENT
BEGIN:VEVENT
DTSTART;TZID=Europe/London:20250324T100000
DTEND;TZID=Europe/London:20250324T150000
DTSTAMP:20260423T141702
CREATED:20250114T222954Z
LAST-MODIFIED:20250114T222954Z
UID:5337-1742810400-1742828400@stpetersmarlborough.org.uk
SUMMARY:Marlborough's Indoor Monday Market @ St Peter's - Mar 24
DESCRIPTION:Our twentieth Monday Market will be open at 10am on Monday 24th March and we would love to see you all turn out and support local products and produce. This week we will have meat reared by Grove Farm Stitchcombe in the Kennet Valley\, the stunning handmade jewellery of Chloe May Creates and Treebitz Wooden Kitchenware. \nThe indoor market at St Peter’s runs every Monday\, 10am to 3pm. Our aim is to showcase the best of local businesses bringing together their products and produce all under one roof. \n\nNew stalls added each week\,\nLocal businesses\, products and produce\,\nGreat tea\, coffee\, cakes and lunches at the Cardinal Coffee Shop\,\nAll set within Marlborough’s beautiful 550 year old landmark building.\n\nWe want our markets to be for the benefit of the whole community\, let’s get together and support local.
URL:https://stpetersmarlborough.org.uk/event/marlboroughs-indoor-monday-market-st-peters-mar-24
LOCATION:St Peter’s Marlborough\, High Street\, Marlborough\, Wiltshire\, SN8 1HQ\, United Kingdom
CATEGORIES:Indoor Market,Market,St Peter's
ATTACH;FMTTYPE=image/png:https://stpetersmarlborough.org.uk/wp-content/uploads/2025/01/4.png
ORGANIZER;CN="St Peter's Marlborough":MAILTO:events@stpetersmarlborough.org.uk
END:VEVENT
BEGIN:VEVENT
DTSTART;TZID=Europe/London:20250330T200000
DTEND;TZID=Europe/London:20250330T200000
DTSTAMP:20260423T141702
CREATED:20250114T162822Z
LAST-MODIFIED:20250115T092936Z
UID:5267-1743364800-1743364800@stpetersmarlborough.org.uk
SUMMARY:Steve Knightley ‘Winter into Spring’
DESCRIPTION:Acclaimed singer songwriter and former Show of Hands frontman Steve Knightley is back with his eagerly anticipated solo tour\, Winter Into Spring.\nFollowing the phenomenal success of this Autumn’s Winter Yards album and tour\, this brand-new show will take Steve back to intimate\, out-of-the-way venues\, where he honed his craft. \nThe ‘Winter Into Spring’ tour features songs from the critically acclaimed Winter Yards album\, described as “a deeply atmospheric journey” (Spiral Earth) and “a must-have for anyone seeking unforgettable music” (Here Comes the Song). Alongside these new favourites\, Knightley will revisit and reimagine some of his most iconic songs in a completely fresh performance. \nDon’t miss your chance to experience one of the UK’s finest singer-songwriters. Known for his “powerful narratives and captivating stage presence” (Rock and Reel)\, Steve promises an unforgettable evening of music and stories. \nTickets via Marlborough Folk Roots: https://marlboroughfolk-roots.co.uk/steve-knightley
URL:https://stpetersmarlborough.org.uk/event/steve-knightley-winter-into-spring
LOCATION:St Peter’s Marlborough\, High Street\, Marlborough\, Wiltshire\, SN8 1HQ\, United Kingdom
CATEGORIES:Concert,Marlborough Folk Roots
ATTACH;FMTTYPE=image/jpeg:https://stpetersmarlborough.org.uk/wp-content/uploads/2025/01/Steve-Knightley-Press-Photo-Leather-Jacket-e1736872592378.jpeg
END:VEVENT
BEGIN:VEVENT
DTSTART;TZID=Europe/London:20250331T100000
DTEND;TZID=Europe/London:20250331T150000
DTSTAMP:20260423T141702
CREATED:20250114T221917Z
LAST-MODIFIED:20250325T190022Z
UID:5327-1743415200-1743433200@stpetersmarlborough.org.uk
SUMMARY:Marlborough's Indoor Monday Market @ St Peter's - Mar 31
DESCRIPTION:Our twenty-first Monday Market will be open at 10am on Monday 31st March and we would love to see you all turn out and support local products and crafts. This week we will have Artist Susy Fuentes\, Lib’s Aromatherapy\, the Refil Station and Treebitz with their bespoke wooden kitchenware. So come and shop\, take a look around and enjoy incredible coffee and cakes from the Cardinal Coffee Shop. \nThe indoor market at St Peter’s runs every Monday\, 10am to 3pm. Our aim is to showcase the best of local businesses bringing together their products and produce all under one roof. \n\nNew stalls added each week\,\nLocal businesses\, products and produce\,\nGreat tea\, coffee\, cakes and lunches at the Cardinal Coffee Shop\,\nAll set within Marlborough’s beautiful 550 year old landmark building.\n\nWe want our markets to be for the benefit of the whole community\, let’s get together and support local.
URL:https://stpetersmarlborough.org.uk/event/marlboroughs-indoor-monday-market-st-peters-mar-31
LOCATION:St Peter’s Marlborough\, High Street\, Marlborough\, Wiltshire\, SN8 1HQ\, United Kingdom
CATEGORIES:Indoor Market,Market,St Peter's
ATTACH;FMTTYPE=image/png:https://stpetersmarlborough.org.uk/wp-content/uploads/2025/01/8.png
ORGANIZER;CN="St Peter's Marlborough":MAILTO:events@stpetersmarlborough.org.uk
END:VEVENT
END:VCALENDAR