BEGIN:VCALENDAR
VERSION:2.0
PRODID:-//St Peter&#039;s Marlborough - ECPv6.15.20//NONSGML v1.0//EN
CALSCALE:GREGORIAN
METHOD:PUBLISH
X-WR-CALNAME:St Peter&#039;s Marlborough
X-ORIGINAL-URL:https://stpetersmarlborough.org.uk
X-WR-CALDESC:Events for St Peter&#039;s Marlborough
REFRESH-INTERVAL;VALUE=DURATION:PT1H
X-Robots-Tag:noindex
X-PUBLISHED-TTL:PT1H
BEGIN:VTIMEZONE
TZID:Europe/London
BEGIN:DAYLIGHT
TZOFFSETFROM:+0000
TZOFFSETTO:+0100
TZNAME:BST
DTSTART:20250330T010000
END:DAYLIGHT
BEGIN:STANDARD
TZOFFSETFROM:+0100
TZOFFSETTO:+0000
TZNAME:GMT
DTSTART:20251026T010000
END:STANDARD
BEGIN:DAYLIGHT
TZOFFSETFROM:+0000
TZOFFSETTO:+0100
TZNAME:BST
DTSTART:20260329T010000
END:DAYLIGHT
BEGIN:STANDARD
TZOFFSETFROM:+0100
TZOFFSETTO:+0000
TZNAME:GMT
DTSTART:20261025T010000
END:STANDARD
BEGIN:DAYLIGHT
TZOFFSETFROM:+0000
TZOFFSETTO:+0100
TZNAME:BST
DTSTART:20270328T010000
END:DAYLIGHT
BEGIN:STANDARD
TZOFFSETFROM:+0100
TZOFFSETTO:+0000
TZNAME:GMT
DTSTART:20271031T010000
END:STANDARD
END:VTIMEZONE
BEGIN:VEVENT
DTSTART;TZID=Europe/London:20260530T180000
DTEND;TZID=Europe/London:20260530T220000
DTSTAMP:20260425T171105
CREATED:20260413T161938Z
LAST-MODIFIED:20260415T104528Z
UID:8116-1780164000-1780178400@stpetersmarlborough.org.uk
SUMMARY:Ceilidh Dance at St Peter's
DESCRIPTION:Come and join us at St Peter’s for a lively evening of dancing to the music of the Black Velvet Band\, ‘the best ceilidh band in the West ‘. Their caller will lead us through the dances so it doesn’t matter whether you are an experienced dancer or a complete novice.\n\nA barbecue will be available at the start of the evening and a bar open all night.\n\nTickets are £15 and available from The White Horse bookshop\, Cardinal Coffee Shop or by clicking the link below.\n\nBring your friends and celebrate the start of summer.\n\nAll proceeds will go to St Peter’s Trust for the up keep of this beautiful building.
URL:https://stpetersmarlborough.org.uk/event/ceilidh-dance-at-st-peters
LOCATION:St Peter’s Marlborough\, High Street\, Marlborough\, Wiltshire\, SN8 1HQ\, United Kingdom
CATEGORIES:Dance
ATTACH;FMTTYPE=image/png:https://stpetersmarlborough.org.uk/wp-content/uploads/2026/04/Screenshot-2026-04-13-at-17.10.27.png
ORGANIZER;CN="St Peter's Marlborough":MAILTO:events@stpetersmarlborough.org.uk
END:VEVENT
BEGIN:VEVENT
DTSTART;TZID=Europe/London:20260607T180000
DTEND;TZID=Europe/London:20260607T200000
DTSTAMP:20260425T171105
CREATED:20260413T162321Z
LAST-MODIFIED:20260413T162321Z
UID:8123-1780855200-1780862400@stpetersmarlborough.org.uk
SUMMARY:Damian Lewis at St. Peter's - 'Sweet Chaos' Outstore
DESCRIPTION:TICKETS https://www.sound-knowledge.co.uk/collections/events/products/damian-lewis-at-st-peters?variant=45731075915962 \noin Damian Lewis to celebrate the release of his new album Sweet Chaos with an exclusive appearance at St. Peter’s Church from 6pm on Sunday 7th June. Following the success of his acclaimed 2023 debut Mission Creep\, which established him as a powerful and authentic new voice in British music\, Damian returns with his second album Sweet Chaos\, written from a place of hard-won clarity. \n\nWritten two years on\, it is bolder\, broader\, and at times more raw. “The first album was quiet and tender\,” Lewis says. “This new album is a bit angrier in places. You don’t know these things until you listen back: the extent to which your state of mind pervades the thing.” \n\n\nFor this intimate appearance\, Damian will perform a short\, stripped-back set\, showcasing the songs in their rawest form. The performance will be followed by a Q&A and signing event\, offering fans a rare chance to meet Damian and ask him about the stories behind the music. \n\n\n“Sweet Chaos is a story of a man whose life is gilded\, charmed\, blessed. A man in control upon whom chaos is visited\, but the chaos releases all manner of wonderful things. A freedom.”\n\n\nIf you’d like to attend this intimate performance in a beautiful setting\, album and ticket bundles are available for purchase\, featuring a copy of the new album (released 5th June on CD\, LP and an indies exclusive orange vinyl) and a ticket to the event. Standalone tickets are also available but we’d ask you to consider buying a bundle where possible- it’s better value for you and the album sales help both the artist and also us with organising these events. Tickets and bundles are available exclusively from Sound Knowledge in-store\, over the phone on 01672 511106 or via this page from 11am on Friday 27th March. \nPLEASE NOTE – BECAUSE OF THE PROXIMITY OF THE EVENT TO THE ALBUM’S RELEASE\, ALL TICKETS/BUNDLES ARE PICKUP-ONLY\, EITHER FROM THE SHOP AS FROM 5TH JUNE OR ON THE DOOR OF THE VENUE ON THE DAY. NOTHING WILL BE POSTED OUT FOR THIS ONE. \nUnder 16s must be accompanied by a ticket-holding adult. We can’t admit under-8s for this one. This is a standing event but please notify us by email if you have any access requirements. 
URL:https://stpetersmarlborough.org.uk/event/damian-lewis-at-st-peters-sweet-chaos-outstore
LOCATION:St Peter’s Marlborough\, High Street\, Marlborough\, Wiltshire\, SN8 1HQ\, United Kingdom
CATEGORIES:Concert
ATTACH;FMTTYPE=image/webp:https://stpetersmarlborough.org.uk/wp-content/uploads/2026/04/DamianLewisSKAsset_07fa9f16-af93-4eb6-92ff-7007887a5339_470x509_crop_top.webp
END:VEVENT
BEGIN:VEVENT
DTSTART;TZID=Europe/London:20260621T150000
DTEND;TZID=Europe/London:20260621T170000
DTSTAMP:20260425T171105
CREATED:20260410T114926Z
LAST-MODIFIED:20260410T115015Z
UID:8103-1782054000-1782061200@stpetersmarlborough.org.uk
SUMMARY:Wantage Silver Band In Concert
DESCRIPTION:TICKETS £15 https://www.wantageband.org/events \n \nKIDS GO FREE \nJoin the talented Wantage Band for an afternoon of music featuring their winning programme from the 2026 Welsh Open Contest\, States of Mind. As well as this\, the band will feature some of their soloists and showcase a varied programme of brass band music for all ages to enjoy.\n 
URL:https://stpetersmarlborough.org.uk/event/wantage-silver-band-in-concert
LOCATION:St Peter’s Marlborough\, High Street\, Marlborough\, Wiltshire\, SN8 1HQ\, United Kingdom
CATEGORIES:Concert
ATTACH;FMTTYPE=image/png:https://stpetersmarlborough.org.uk/wp-content/uploads/2026/04/Screenshot-2026-04-10-at-12.42.59.png
ORGANIZER;CN="St Peter's Marlborough":MAILTO:events@stpetersmarlborough.org.uk
END:VEVENT
BEGIN:VEVENT
DTSTART;TZID=Europe/London:20260711T190000
DTEND;TZID=Europe/London:20260711T210000
DTSTAMP:20260425T171105
CREATED:20260209T151419Z
LAST-MODIFIED:20260324T202336Z
UID:7935-1783796400-1783803600@stpetersmarlborough.org.uk
SUMMARY:Brilliant International Musicians Series: Paddington Trio
DESCRIPTION:Seen as the one of the most exciting chamber ensembles of their generation\, the\nPaddington Trio has been recognized in international competitions and live\nperformances for their fresh interpretations and exuberant energy. As did the\nfamous bear\, Finnish violinist Tuulia Hero\, Irish cellist Patrick Moriarty and American\npianist Stephanie Tang have made London their home and emerged as an\nensemble of an entirely unique and lasting entity. The trio is celebrated for its close\nand energetic communication\, insightful and imaginative programming as well as its\nhighly refined ensemble playing. The trio’s grand mission is to bridge the gap\nbetween new listeners and serious classical music enthusiasts by welcoming\neveryone into their living room of musical discovery and shared love of chamber\nmusic.
URL:https://stpetersmarlborough.org.uk/event/brilliant-international-musicians-series-paddington-trio
LOCATION:St Peter’s Marlborough\, High Street\, Marlborough\, Wiltshire\, SN8 1HQ\, United Kingdom
CATEGORIES:Brilliant International Musicians
ATTACH;FMTTYPE=image/png:https://stpetersmarlborough.org.uk/wp-content/uploads/2026/02/paddington-trio-New-for-web-site-.png
ORGANIZER;CN="St Peter's Marlborough":MAILTO:events@stpetersmarlborough.org.uk
END:VEVENT
BEGIN:VEVENT
DTSTART;TZID=Europe/London:20260801T183000
DTEND;TZID=Europe/London:20260801T210000
DTSTAMP:20260425T171105
CREATED:20260421T124958Z
LAST-MODIFIED:20260421T124958Z
UID:8154-1785609000-1785618000@stpetersmarlborough.org.uk
SUMMARY:St Peter's Presents Tom Gamble
DESCRIPTION:TICKETS : TICKET LINK \n“One of the UK’s most exciting guitarists” – BBC Radio\nCelebrating the release of his sixth solo album\, “Six String Vagabond”\, join Tom at the as he returns to Marlborough St Peter’s  for a genre-bending concert featuring original music\, songs and virtuosic arrangements for guitar from the new record. \nTom’s live performances have been praised for their “virtuosity\, spontaneity and humour”. His recordings have been featured regularly on national radio\, and his live tours have encompassed six continents and stages such as London’s Southbank Centre\, Bridgewater Hall\, RMS Queen Mary 2 and the Olympics. \n\nWe very much look forward to welcoming him back for the release of his new Album.\n\nwww.tomgamblemusic.com\n\nDoors 6:30pm
URL:https://stpetersmarlborough.org.uk/event/st-peters-presents-tom-gamble
LOCATION:St Peter’s Marlborough\, High Street\, Marlborough\, Wiltshire\, SN8 1HQ\, United Kingdom
CATEGORIES:Concert
ATTACH;FMTTYPE=image/png:https://stpetersmarlborough.org.uk/wp-content/uploads/2026/04/‘One-of-the-Uks-most-exciting-guitarists-BBC-Radio.png
ORGANIZER;CN="St Peter's Marlborough":MAILTO:events@stpetersmarlborough.org.uk
END:VEVENT
BEGIN:VEVENT
DTSTART;TZID=Europe/London:20260912T190000
DTEND;TZID=Europe/London:20260912T213000
DTSTAMP:20260425T171105
CREATED:20260331T141036Z
LAST-MODIFIED:20260413T154946Z
UID:8089-1789239600-1789248600@stpetersmarlborough.org.uk
SUMMARY:Tarantara Choir performs at St Peter’s
DESCRIPTION:Tarantara Choir performs at st peter’s in aid of St Peter’s future fund . \nDoors 7 \nChoir 7:30 \nend of chior 9:30 \nBar open till 10:30 \n\n\n\n\nTICKETS AVAILABLE HERE https://www.eventbrite.com/e/tarantara-choir-performs-at-st-peters-tickets-1986324976475?aff=oddtdtcreator
URL:https://stpetersmarlborough.org.uk/event/tarantara-choir-performs-at-st-peters
LOCATION:St Peter’s Marlborough\, High Street\, Marlborough\, Wiltshire\, SN8 1HQ\, United Kingdom
CATEGORIES:Charity
ATTACH;FMTTYPE=image/png:https://stpetersmarlborough.org.uk/wp-content/uploads/2026/03/In-Aid-of-for-coffee-shop-yables-A5.png
ORGANIZER;CN="St Peter's Marlborough":MAILTO:events@stpetersmarlborough.org.uk
END:VEVENT
BEGIN:VEVENT
DTSTART;TZID=Europe/London:20261001T193000
DTEND;TZID=Europe/London:20261001T213000
DTSTAMP:20260425T171105
CREATED:20260319T125839Z
LAST-MODIFIED:20260319T125839Z
UID:8068-1790883000-1790890200@stpetersmarlborough.org.uk
SUMMARY:The (almost) Complete History of Britain | St Peter's Marlborough
DESCRIPTION:INDOOR THEATRE | SUITABLE FOR ALL AGES | 2 HOURS INCLUDING INTERVAL \n  \nTICKETS https://www.tickettailor.com/events/thepantaloons/2126990 \nMud\, blood and stiff upper-lips! Join the critically-acclaimed Pantaloons Theatre Company on a breathless race through the centuries in this delightfully inventive show that tells the entire story of Britain in under 2 hours. \nHave you ever wanted to see the life of Henry VIII told as a romantic comedy or the tale of the Spanish Armada reimagined as a light operetta? Probably not. But that won’t stop The Pantaloons retelling great moments from the country’s past in a variety of surprising genres! Featuring live music\, audience interaction and wild historical inaccuracy.\n\n“Laugh-out-loud funny… endless verve and utterly infectious joy.” (Northwich Guardian)
URL:https://stpetersmarlborough.org.uk/event/the-almost-complete-history-of-britain-st-peters-marlborough
LOCATION:St Peter’s Marlborough\, High Street\, Marlborough\, Wiltshire\, SN8 1HQ\, United Kingdom
CATEGORIES:Performance
ATTACH;FMTTYPE=image/jpeg:https://stpetersmarlborough.org.uk/wp-content/uploads/2026/03/image001.jpg
ORGANIZER;CN="St Peter's Marlborough":MAILTO:events@stpetersmarlborough.org.uk
END:VEVENT
END:VCALENDAR