BEGIN:VCALENDAR
VERSION:2.0
PRODID:-//St Peter&#039;s Marlborough - ECPv6.15.20//NONSGML v1.0//EN
CALSCALE:GREGORIAN
METHOD:PUBLISH
X-WR-CALNAME:St Peter&#039;s Marlborough
X-ORIGINAL-URL:https://stpetersmarlborough.org.uk
X-WR-CALDESC:Events for St Peter&#039;s Marlborough
REFRESH-INTERVAL;VALUE=DURATION:PT1H
X-Robots-Tag:noindex
X-PUBLISHED-TTL:PT1H
BEGIN:VTIMEZONE
TZID:Europe/London
BEGIN:DAYLIGHT
TZOFFSETFROM:+0000
TZOFFSETTO:+0100
TZNAME:BST
DTSTART:20240331T010000
END:DAYLIGHT
BEGIN:STANDARD
TZOFFSETFROM:+0100
TZOFFSETTO:+0000
TZNAME:GMT
DTSTART:20241027T010000
END:STANDARD
BEGIN:DAYLIGHT
TZOFFSETFROM:+0000
TZOFFSETTO:+0100
TZNAME:BST
DTSTART:20250330T010000
END:DAYLIGHT
BEGIN:STANDARD
TZOFFSETFROM:+0100
TZOFFSETTO:+0000
TZNAME:GMT
DTSTART:20251026T010000
END:STANDARD
BEGIN:DAYLIGHT
TZOFFSETFROM:+0000
TZOFFSETTO:+0100
TZNAME:BST
DTSTART:20260329T010000
END:DAYLIGHT
BEGIN:STANDARD
TZOFFSETFROM:+0100
TZOFFSETTO:+0000
TZNAME:GMT
DTSTART:20261025T010000
END:STANDARD
END:VTIMEZONE
BEGIN:VEVENT
DTSTART;TZID=Europe/London:20250926T193000
DTEND;TZID=Europe/London:20250926T213000
DTSTAMP:20260423T095456
CREATED:20250723T223326Z
LAST-MODIFIED:20250723T223326Z
UID:6898-1758915000-1758922200@stpetersmarlborough.org.uk
SUMMARY:Sound Knowledge – Newton Faulkner – Live Album Launch
DESCRIPTION:We’re delighted to announce Newton Faulkner will be returning to Marlborough on Friday 26th September at 7.30pm\, playing here at St. Peter’s launching his eighth studio album: ‘OCTOPUS’.\nThe multi-platinum-selling singer-songwriter has two UK No. 1 albums under his belt\, but the new album marks something of a creative rebirth for Faulkner. Five years in the making\, ‘OCTOPUS’ is a bold\, colourful record with contributions from Reuben James\, Dan Smith (The Noisettes)\, Lissie and Los Bitchos guitarist Serra Petale.\nNewton has played for us numerous times over the years and has always been a firm crowd favourite\, but this marks his first appearance in our spiritual home of St. Peter’s. If you’d like to attend this intimate performance in a beautiful setting\, album and ticket bundles are available for purchase\, featuring a copy of the new album (released Friday 19th September on CD (indies exclusive variant artwork available)\, white vinyl and an indies exclusive green vinyl) and a ticket to the event. Standalone tickets are also available but we’d ask you to consider buying a bundle where possible\, it’s better value for you and the album sales help both the artist and also us with organising these events. Tickets and bundles are available exclusively from Sound Knowledge in-store\, over the phone on 01672 511106 or via this page.\nUnder 16s must be accompanied by a ticket-holding adult. We cannot admit under-8s for this one. This is a standing event but please notify us by email if you have access and/or seating requirements.
URL:https://stpetersmarlborough.org.uk/event/sound-knowledge-newton-faulkner-live-album-launch
LOCATION:St Peter’s Marlborough\, High Street\, Marlborough\, Wiltshire\, SN8 1HQ\, United Kingdom
CATEGORIES:Concert,Live music,Sound Knowledge
ATTACH;FMTTYPE=image/jpeg:https://stpetersmarlborough.org.uk/wp-content/uploads/2025/07/Newton-Faulkner-2025-09-26.jpg
END:VEVENT
END:VCALENDAR