BEGIN:VCALENDAR
VERSION:2.0
PRODID:-//St Peter&#039;s Marlborough - ECPv6.15.20//NONSGML v1.0//EN
CALSCALE:GREGORIAN
METHOD:PUBLISH
X-WR-CALNAME:St Peter&#039;s Marlborough
X-ORIGINAL-URL:https://stpetersmarlborough.org.uk
X-WR-CALDESC:Events for St Peter&#039;s Marlborough
REFRESH-INTERVAL;VALUE=DURATION:PT1H
X-Robots-Tag:noindex
X-PUBLISHED-TTL:PT1H
BEGIN:VTIMEZONE
TZID:Europe/London
BEGIN:DAYLIGHT
TZOFFSETFROM:+0000
TZOFFSETTO:+0100
TZNAME:BST
DTSTART:20240331T010000
END:DAYLIGHT
BEGIN:STANDARD
TZOFFSETFROM:+0100
TZOFFSETTO:+0000
TZNAME:GMT
DTSTART:20241027T010000
END:STANDARD
BEGIN:DAYLIGHT
TZOFFSETFROM:+0000
TZOFFSETTO:+0100
TZNAME:BST
DTSTART:20250330T010000
END:DAYLIGHT
BEGIN:STANDARD
TZOFFSETFROM:+0100
TZOFFSETTO:+0000
TZNAME:GMT
DTSTART:20251026T010000
END:STANDARD
BEGIN:DAYLIGHT
TZOFFSETFROM:+0000
TZOFFSETTO:+0100
TZNAME:BST
DTSTART:20260329T010000
END:DAYLIGHT
BEGIN:STANDARD
TZOFFSETFROM:+0100
TZOFFSETTO:+0000
TZNAME:GMT
DTSTART:20261025T010000
END:STANDARD
END:VTIMEZONE
BEGIN:VEVENT
DTSTART;TZID=Europe/London:20250817T163000
DTEND;TZID=Europe/London:20250817T193000
DTSTAMP:20260421T225941
CREATED:20250619T170713Z
LAST-MODIFIED:20250819T193435Z
UID:6796-1755448200-1755459000@stpetersmarlborough.org.uk
SUMMARY:Sound Knowledge - Black Honey - Live Album Launch
DESCRIPTION:We’re thrilled to announce that Black Honey will be returning to Marlborough on Sunday 17th August. They’ll be playing live in St. Peter’s from 5pm to celebrate the release of their brand new album ‘Soak’. \nAcross a decade as a band\, the acclaimed indie four-piece led by powerhouse front person Izzy Phillips have scored two UK Top 10 albums\, shared stages with IDLES\, Liam Gallagher and The Libertines\, and garnered an impressive live rep.\nThey were last with us two albums ago in 2021\, performing a memorable outdoor set as their sophomore record ‘Written & Directed’ reached #1 on the Official Independent Albums Chart.\nNow two years sober and also enjoying a thriving parallel career as a tattoo artist\, Phillips channels that emotional labour and hard won self-acceptance into a greater creative clarity\, kickstarting the most compelling chapter of the band so far. \nIf you’d like to attend this intimate performance in a beautiful setting\, album and ticket bundles are available for purchase\, featuring a copy of the new album (released Friday 15th August on CD\, cream vinyl and an indies exclusive black & white vinyl in an alternate artwork sleeve) and a ticket to the event. Standalone tickets are also available but we’d ask you to consider buying a bundle where possible- it’s better value for you and the album sales help both the artist and also us with organising these events. \nTickets and bundles are available exclusively from Sound Knowledge via this page\, on sale from 10am on Thursday 1st May. \nAll tickets are PICKUP ONLY\, available to collect in advance from the shop as from the release date of the album\, or on the door of the venue. Please have your order number/confirmation email to hand when collecting \n**Under 16s must be accompanied by a ticket-holding adult. We can’t admit under-8s for this one. This is a standing event but please notify Sound Knowledge by email if you have any access requirements.
URL:https://stpetersmarlborough.org.uk/event/live-black-honey
LOCATION:St Peter’s Marlborough\, High Street\, Marlborough\, Wiltshire\, SN8 1HQ\, United Kingdom
CATEGORIES:Sound Knowledge
ATTACH;FMTTYPE=image/png:https://stpetersmarlborough.org.uk/wp-content/uploads/2025/06/Black-Honey-SK-Asset-w-text.png
END:VEVENT
END:VCALENDAR