BEGIN:VCALENDAR
VERSION:2.0
PRODID:-//St Peter&#039;s Marlborough - ECPv6.15.20//NONSGML v1.0//EN
CALSCALE:GREGORIAN
METHOD:PUBLISH
X-ORIGINAL-URL:https://stpetersmarlborough.org.uk
X-WR-CALDESC:Events for St Peter&#039;s Marlborough
REFRESH-INTERVAL;VALUE=DURATION:PT1H
X-Robots-Tag:noindex
X-PUBLISHED-TTL:PT1H
BEGIN:VTIMEZONE
TZID:Europe/London
BEGIN:DAYLIGHT
TZOFFSETFROM:+0000
TZOFFSETTO:+0100
TZNAME:BST
DTSTART:20240331T010000
END:DAYLIGHT
BEGIN:STANDARD
TZOFFSETFROM:+0100
TZOFFSETTO:+0000
TZNAME:GMT
DTSTART:20241027T010000
END:STANDARD
BEGIN:DAYLIGHT
TZOFFSETFROM:+0000
TZOFFSETTO:+0100
TZNAME:BST
DTSTART:20250330T010000
END:DAYLIGHT
BEGIN:STANDARD
TZOFFSETFROM:+0100
TZOFFSETTO:+0000
TZNAME:GMT
DTSTART:20251026T010000
END:STANDARD
BEGIN:DAYLIGHT
TZOFFSETFROM:+0000
TZOFFSETTO:+0100
TZNAME:BST
DTSTART:20260329T010000
END:DAYLIGHT
BEGIN:STANDARD
TZOFFSETFROM:+0100
TZOFFSETTO:+0000
TZNAME:GMT
DTSTART:20261025T010000
END:STANDARD
END:VTIMEZONE
BEGIN:VEVENT
DTSTART;TZID=Europe/London:20250721T100000
DTEND;TZID=Europe/London:20250726T160000
DTSTAMP:20260421T200458
CREATED:20250718T105142Z
LAST-MODIFIED:20250718T110034Z
UID:6860-1753092000-1753545600@stpetersmarlborough.org.uk
SUMMARY:Georgie Laing - Art and Photography Exhibition
DESCRIPTION:🎨 Celebrate One of Marlborough’s Youngest Talents! 🎨 \nWe’re thrilled to announce that Georgie\, one of Marlborough’s youngest artists\, will be exhibiting her artwork at St Peter’s from Monday\, 21st July\, 10am–4pm. \nPop in to explore her vibrant collection — and why not enjoy a coffee and cake at Cardinal Coffee Shop while you’re there? \n🥂 Join us for the Exhibition Launch!On Monday\, 21st July from 2pm\, we’ll be hosting a special launch event with drinks and nibbles to celebrate Georgie’s work. \nCome along\, show your support for Georgie\, and be part of a fantastic local event at the heart of the community. \nEveryone is welcome — we’d love to see you there!
URL:https://stpetersmarlborough.org.uk/event/georgie-laing-art-and-photography-exhibition
LOCATION:St Peter’s Marlborough\, High Street\, Marlborough\, Wiltshire\, SN8 1HQ\, United Kingdom
CATEGORIES:St Peter's
ATTACH;FMTTYPE=image/jpeg:https://stpetersmarlborough.org.uk/wp-content/uploads/2025/07/Georgie-Laing-Art-and-Photography.jpg
ORGANIZER;CN="St Peter's Marlborough":MAILTO:events@stpetersmarlborough.org.uk
END:VEVENT
END:VCALENDAR