BEGIN:VCALENDAR
VERSION:2.0
PRODID:-//St Peter&#039;s Marlborough - ECPv6.15.20//NONSGML v1.0//EN
CALSCALE:GREGORIAN
METHOD:PUBLISH
X-WR-CALNAME:St Peter&#039;s Marlborough
X-ORIGINAL-URL:https://stpetersmarlborough.org.uk
X-WR-CALDESC:Events for St Peter&#039;s Marlborough
REFRESH-INTERVAL;VALUE=DURATION:PT1H
X-Robots-Tag:noindex
X-PUBLISHED-TTL:PT1H
BEGIN:VTIMEZONE
TZID:Europe/London
BEGIN:DAYLIGHT
TZOFFSETFROM:+0000
TZOFFSETTO:+0100
TZNAME:BST
DTSTART:20240331T010000
END:DAYLIGHT
BEGIN:STANDARD
TZOFFSETFROM:+0100
TZOFFSETTO:+0000
TZNAME:GMT
DTSTART:20241027T010000
END:STANDARD
BEGIN:DAYLIGHT
TZOFFSETFROM:+0000
TZOFFSETTO:+0100
TZNAME:BST
DTSTART:20250330T010000
END:DAYLIGHT
BEGIN:STANDARD
TZOFFSETFROM:+0100
TZOFFSETTO:+0000
TZNAME:GMT
DTSTART:20251026T010000
END:STANDARD
BEGIN:DAYLIGHT
TZOFFSETFROM:+0000
TZOFFSETTO:+0100
TZNAME:BST
DTSTART:20260329T010000
END:DAYLIGHT
BEGIN:STANDARD
TZOFFSETFROM:+0100
TZOFFSETTO:+0000
TZNAME:GMT
DTSTART:20261025T010000
END:STANDARD
END:VTIMEZONE
BEGIN:VEVENT
DTSTART;TZID=Europe/London:20250615T080000
DTEND;TZID=Europe/London:20250615T190000
DTSTAMP:20260421T184802
CREATED:20250529T141759Z
LAST-MODIFIED:20250530T165211Z
UID:6709-1749974400-1750014000@stpetersmarlborough.org.uk
SUMMARY:Avebury Vocal Ensemble
DESCRIPTION:Avebury Vocal Ensemble\nThe Avebury Vocal Ensemble will be performing  on Sunday 15th June at 7.00pm. \nThe principal work is the “Little Jazz Mass” by Bob Chilcott\, a past member of the King’s Singers who is one of our greatest contemporary choral composers and who has just turned seventy. It is a refreshingly different setting of the principal sections of the traditional Mass and we will perform it with piano and bass accompaniment. \nAs the concert follows swiftly upon Ascension Day and takes place on Trinity Sunday itself\, we offer appropriate motets by Peter Philips\, Orlando Gibbons and Tchaikovsky. With two madrigals and a partsong\, we also honour the following anniversaries; Thomas Vautor who\, together with Gibbons died in 1625 and the Victorian\, William Sterndale-Bennett who died in 1875. \nWe complete the programme with lighter works by Haydn\, “Matrimonial Harmony”\, and Schubert\, “Der Tanz” and his lovely setting of Psalm 23 for ladies’ voices\, together with a complete contrast in the perennial “Rhythm of Life” by Cy Coleman.
URL:https://stpetersmarlborough.org.uk/event/avebury-vocal-ensemble
LOCATION:Wiltshire
CATEGORIES:Community
ATTACH;FMTTYPE=image/jpeg:https://stpetersmarlborough.org.uk/wp-content/uploads/2025/05/20250529-AVE.jpg
END:VEVENT
END:VCALENDAR