BEGIN:VCALENDAR
VERSION:2.0
PRODID:-//St Peter&#039;s Marlborough - ECPv6.15.20//NONSGML v1.0//EN
CALSCALE:GREGORIAN
METHOD:PUBLISH
X-ORIGINAL-URL:https://stpetersmarlborough.org.uk
X-WR-CALDESC:Events for St Peter&#039;s Marlborough
REFRESH-INTERVAL;VALUE=DURATION:PT1H
X-Robots-Tag:noindex
X-PUBLISHED-TTL:PT1H
BEGIN:VTIMEZONE
TZID:Europe/London
BEGIN:DAYLIGHT
TZOFFSETFROM:+0000
TZOFFSETTO:+0100
TZNAME:BST
DTSTART:20240331T010000
END:DAYLIGHT
BEGIN:STANDARD
TZOFFSETFROM:+0100
TZOFFSETTO:+0000
TZNAME:GMT
DTSTART:20241027T010000
END:STANDARD
BEGIN:DAYLIGHT
TZOFFSETFROM:+0000
TZOFFSETTO:+0100
TZNAME:BST
DTSTART:20250330T010000
END:DAYLIGHT
BEGIN:STANDARD
TZOFFSETFROM:+0100
TZOFFSETTO:+0000
TZNAME:GMT
DTSTART:20251026T010000
END:STANDARD
BEGIN:DAYLIGHT
TZOFFSETFROM:+0000
TZOFFSETTO:+0100
TZNAME:BST
DTSTART:20260329T010000
END:DAYLIGHT
BEGIN:STANDARD
TZOFFSETFROM:+0100
TZOFFSETTO:+0000
TZNAME:GMT
DTSTART:20261025T010000
END:STANDARD
END:VTIMEZONE
BEGIN:VEVENT
DTSTART;TZID=Europe/London:20250530T193000
DTEND;TZID=Europe/London:20250530T223000
DTSTAMP:20260421T182453
CREATED:20250415T124429Z
LAST-MODIFIED:20250427T085655Z
UID:6452-1748633400-1748644200@stpetersmarlborough.org.uk
SUMMARY:Roof Appeal:  Beth Taylor and Hamish Brown
DESCRIPTION:Hamish Brown (piano)\, who is originally from Marlborough\, accompanies the Glaswegian mezzo-soprano\, Beth Taylor in a song recital inspired by the sea.   “Lauded for her ‘strong presence’\, ‘sensational coloratura’ and ‘intriguing depth'”\, Beth is at the onset of a major international career. She was one of the finalists in the Cardiff Singer of the World competition 2023 and has a busy career both in opera and on the concert platform.  Beth and Hamish have performed on many occasions together\, including at the 2024 Schubertiada\, Vilabertran in Spain\, where their recital was warmly reviewed\, with Beth’s voice likened to the legendary Kathleen Ferrier and Janet Baker\, and Hamish’s accompaniment described as “a magnificent pearly sound … the sonority of which seemed to infect the voice in a total symbiosis”.    There are no tickets required for this concert – seating will be available on a first come\, first served basis and we hope you will feel able to give generously to the retiring collection in aid of St Peter’s Church Roof Appeal.  A bar will be available in the interval.
URL:https://stpetersmarlborough.org.uk/event/roof-appeal-hamish-brown
LOCATION:Wiltshire
ATTACH;FMTTYPE=image/jpeg:https://stpetersmarlborough.org.uk/wp-content/uploads/2025/04/2025HamishBrown.pdf-1.jpg
END:VEVENT
END:VCALENDAR