BEGIN:VCALENDAR
VERSION:2.0
PRODID:-//St Peter&#039;s Marlborough - ECPv6.15.20//NONSGML v1.0//EN
CALSCALE:GREGORIAN
METHOD:PUBLISH
X-WR-CALNAME:St Peter&#039;s Marlborough
X-ORIGINAL-URL:https://stpetersmarlborough.org.uk
X-WR-CALDESC:Events for St Peter&#039;s Marlborough
REFRESH-INTERVAL;VALUE=DURATION:PT1H
X-Robots-Tag:noindex
X-PUBLISHED-TTL:PT1H
BEGIN:VTIMEZONE
TZID:Europe/London
BEGIN:DAYLIGHT
TZOFFSETFROM:+0000
TZOFFSETTO:+0100
TZNAME:BST
DTSTART:20240331T010000
END:DAYLIGHT
BEGIN:STANDARD
TZOFFSETFROM:+0100
TZOFFSETTO:+0000
TZNAME:GMT
DTSTART:20241027T010000
END:STANDARD
BEGIN:DAYLIGHT
TZOFFSETFROM:+0000
TZOFFSETTO:+0100
TZNAME:BST
DTSTART:20250330T010000
END:DAYLIGHT
BEGIN:STANDARD
TZOFFSETFROM:+0100
TZOFFSETTO:+0000
TZNAME:GMT
DTSTART:20251026T010000
END:STANDARD
BEGIN:DAYLIGHT
TZOFFSETFROM:+0000
TZOFFSETTO:+0100
TZNAME:BST
DTSTART:20260329T010000
END:DAYLIGHT
BEGIN:STANDARD
TZOFFSETFROM:+0100
TZOFFSETTO:+0000
TZNAME:GMT
DTSTART:20261025T010000
END:STANDARD
END:VTIMEZONE
BEGIN:VEVENT
DTSTART;TZID=Europe/London:20250216T190000
DTEND;TZID=Europe/London:20250216T210000
DTSTAMP:20260423T172422
CREATED:20240822T115010Z
LAST-MODIFIED:20250210T203240Z
UID:3816-1739732400-1739739600@stpetersmarlborough.org.uk
SUMMARY:Brilliant International Musicians Series: Mishka Rushdie Momen (piano) and Catherina Lee (violin)
DESCRIPTION:Mishka Rushdie Momen (piano) \nHailed as ​ “one of the most thoughtful and sensitive of British pianists” (The Times)\, Mishka captivates audiences with her refined and expressive playing. Her wide repertoire focuses on Mozart\, Beethoven\, Schubert\, and Schumann\, whilst reaching back to Gibbons and Rameau. Committed to performing new music\, Mishka premiered An Inviting Object by Héloïse Werner at the Lucerne Summer Festival in 2022. \nHighlights of the 2023/24 season include debuts with London Philharmonic Orchestra performing Clara Schumann’s Piano Concerto\, and Mannheim Chamber Orchestra performing Mozart’s Piano Concerto No.9 and Haydn’s Piano Concerto No.4. Notable orchestral engagements to date include City of Birmingham Symphony Orchestra\, Deutsche Kammerakademie Neuss\, and Britten Sinfonia. Mishka’s debut solo recording\, Variations\, was released in October 2019 \, featuring works by Robert and Clara Schumann\, Brahms and Mendelssohn. She was The Times Arts critics’ chosen nominee in the field of classical music for their 2021 Breakthrough Award\, and in 2024 she recorded to great acclaim a solo album for Hyperion\, Reformation\, featuring music by English composers of the Elizabethan age. \n  \nCatherina Lee (violin) \nCatherina is one of the most gifted and promising violinists to have emerged from Queensland\, Australia. She is described as possessing exceptional musicianship with a unique charm\, poignancy\, and sensitivity that place her in a league of her own. Catherina gave her first public recital at 9\, debuting with the Queensland Symphony Orchestra at 13\, performing Tchaikovsky’s Violin Concerto. At 15 she was accepted into the class of Gerhard Schulz\, at the University of Music and Performing Arts in Vienna. \nCatherina has collaborated with Steven Isserlis\, Kim Kashkashian\, Philippe Graffin\, and Wilfried Strehle amongst others\, and as a soloist she has performed with numerous orchestras throughout Europe and Australia\, including Göttinger Symphony Orchestra\, the Vienna Ensemble\, and Camerata – Queensland’s Chamber Orchestra. \nNumerous masterclasses with a number of leading musicians have been enriching and supportive. These include Steven Isserlis\, Serguei Azizian\, Ivry Gitlis\, Boris Brovtsyn\, and Erich Gruenberg. Catherina plays on a GB Guadagnini\, Turin c1771\, generously on loan by a private sponsor. \n  \nThis event has been selected for St Peter’s Trust membership discount. Please use your membership number\, found on your membership card to apply your discount at either the Basket or Checkout stage when ordering. If you do not have your membership number please contact events@stpetersmarlborough.org.uk for support. \nFor information about how you can support St Peter’s Trust by becoming a member click here.
URL:https://stpetersmarlborough.org.uk/event/brilliant-international-musicians-series-mishka-rushdie-momen-piano-and-catherina-lee-violin
LOCATION:St Peter’s Marlborough\, High Street\, Marlborough\, Wiltshire\, SN8 1HQ\, United Kingdom
CATEGORIES:Brilliant International Musicians
ATTACH;FMTTYPE=image/jpeg:https://stpetersmarlborough.org.uk/wp-content/uploads/2023/12/St-Peters-Trust-presents-the-13th-season-of-Instagram-Post.jpg
ORGANIZER;CN="St Peter's Marlborough":MAILTO:events@stpetersmarlborough.org.uk
END:VEVENT
END:VCALENDAR